{"text_format":"1","workbook":"xlsx","n_sheets":8,"sheets":["計分說明","3 情境","4 情境","5 情境","6 情境","8 情境","10 情境","試玩遊戲得分樣本群"],"not_rendered":{"charts":6,"images":8,"macros":1,"external_links":0,"defined_names":1,"comments":0,"pivot_tables":0},"unopened":[],"bounds":{"document_bytes":16777216,"sheet_cells":100000,"rows_first":2000,"rows_last":500,"rows_between":2000,"halvings":0,"cell_chars":16384,"cell_head_chars":4096},"cells_cut":0,"cells_raw":0,"read":"whole","date_system":"1900"}

{"sheet":"計分說明","index":0,"n_rows":16,"n_cols":3,"rows_kept":16,"cut":false,"hidden":false,"merged":[[1,1,1,2]]}
[]
[null,"聲場雙任務語音聽辨"]
[null,"計分說明","(2022-09-09)"]
[null,"參考網址","https://jedi.org/blog/archives/006322.html#proposal"]
[]
[null,"下載","https://apps.apple.com/tw/app/infinite-loop/id1076098267"]
[]
[null,"1.","設置人員一名在個案旁邊協助評估進行，個案前方設置桌面較為理想"]
[null,"2.","熟悉競爭任務：請個案先試玩《Infinite Loop》遊戲至少五場，記錄每一場的得分，取前三高分；如果個案玩了五場仍然不是很熟悉，可以增加場數，最後再取前三高分記錄"]
[null,"3.","注意個案玩遊戲時的坐姿，應把手機拿高，確保臉部朝前而不是低頭，並要確認個案在這個姿勢的頭部位置距離聲場喇叭符合聽力檢查需求"]
[null,"4.","向個案說明接下來的施測方法：施測者每次念出某個字詞後，個案需跟著複誦，聽不清楚也要用猜的，施測者不會重複再念相同的字詞，也不會一直等待個案作答，每個字詞的等待複誦時間不應超過 1 秒鐘，而在整個施測過程中個案還得同時持續玩《Infinite Loop》遊戲，而且必須盡量把遊戲玩好，每次遊戲結束後就按「Retry」接續遊玩"]
[null,"5.","設定錄製螢幕畫面，啟動遊戲，但提示個案還不能開始玩遊戲，然後準備施測聲場語音聽辨測驗"]
[null,"6.","每一種聆聽情境（噪音條件、使用輔具等）由個案旁邊的人員負責協調場控，下達測試開始之指令後，個案才可以開始玩遊戲，以及聽力師／輔具評估人員才開始施測語音聽辨測驗；建議第一個聆聽情境採用「個案現有輔具（或裸耳）、安靜情境、語音來自正前方」"]
[null,"7.","每一種聆聽情境結束後，立刻要求個案放下手機，不能繼續遊玩，然後結束螢幕畫面錄製，再重複前兩個步驟，直到所有情境施測完畢"]
[null,"8.","以重播畫面的方式計算某種聆聽情境中的遊戲平均得分（情境施測完畢時，如果最後一場遊戲還沒有玩完，也要先停下，依最後的分數分別以「採計」跟「不採計」計算平均，取結果較高分的那一個），若無法整除則四捨五入到小數點以下第二位"]
[null,"9.","如果過程中發現個案偏重其中一項活動，例如只玩遊戲都不回答聽辨，或者只聽辨但都不玩遊戲了，應在該情境施測完成後與個案重新確認施測方式，然後重測，但相關成績一起保留以利分析"]

{"sheet":"3 情境","index":1,"n_rows":31,"n_cols":14,"rows_kept":31,"cut":false,"hidden":false,"merged":[[30,0,30,8]]}
[null,"試玩最高","試玩次高","試玩第三","情境一","情境二","情境三",null,"版本 2021-09-19",null,{"$f":"IF(ISBLANK(E1),\"\",E1)","v":"情境一"},{"$f":"IF(ISBLANK(F1),\"\",F1)","v":"情境二"},{"$f":"IF(ISBLANK(G1),\"\",G1)","v":"情境三"}]
["遊戲得分",null,null,null,null,null,null,null,"心力負擔（越低越好）",null,{"$f":"IF(ISBLANK(E2),\"\",MAX(0,LOG10((AVERAGE(B2:C2)+(J10/9))/(E2+(J10/9)))))","v":""},{"$f":"IF(ISBLANK(F2),\"\",MAX(0,LOG10((AVERAGE(B2:C2)+(J10/9))/(F2+(J10/9)))))","v":""},{"$f":"IF(ISBLANK(G2),\"\",MAX(0,LOG10((AVERAGE(B2:C2)+(J10/9))/(G2+(J10/9)))))","v":""}]
[null,null,"N=25","SDS (%)",null,null,null,null,"語音辨識率",null,{"$f":"IF(ISBLANK(E3),\"\",E3/100)","v":""},{"$f":"IF(ISBLANK(F3),\"\",F3/100)","v":""},{"$f":"IF(ISBLANK(G3),\"\",G3/100)","v":""}]
[null,null,null,null,null,null,null,null,"基礎心力容餘",{"$f":"MIN(1,LOG10((AVERAGE(B2:C2)+(J10/9))/(J10/9)))","v":{"$error":"#DIV/0!"}},{"$f":"J4","v":{"$error":"#DIV/0!"}},{"$f":"K4","v":{"$error":"#DIV/0!"}},{"$f":"L4","v":{"$error":"#DIV/0!"}},{"$f":"M4","v":{"$error":"#DIV/0!"}}]
[null,null,"N=50",null,null,null,null,null,"輕鬆聆聽",{"$f":"MAX(0,MIN(1,LOG10((AVERAGE(B2:C2)+(J10/9))/(D2+(J10/9)))))","v":{"$error":"#DIV/0!"}},{"$f":"J5","v":{"$error":"#DIV/0!"}},{"$f":"K5","v":{"$error":"#DIV/0!"}},{"$f":"L5","v":{"$error":"#DIV/0!"}},{"$error":"#DIV/0!"}]
[null,null,"N=25",null,null,null,null,null,"信賴區間(+)",null,{"$f":"IF(C3=\"N=50\",IF(ISBLANK(E3),\"\",(IF(E3=0,4,IF(E3<4,8,IF(E3<6,10,IF(E3<8,12,IF(E3<14,14,IF(E3<22,16,IF(E3<62,18,IF(E3<72,16,IF(E3<80,14,IF(E3<84,12,IF(E3<88,10,IF(E3<92,8,IF(E3<94,6,IF(E3<97,4,IF(E3<99,2,0))))))))))))))))/100),IF(ISBLANK(E3),\"\",(IF(E3=0,8,IF(E3<8,16,IF(E3<16,20,IF(E3<64,24,IF(E3<76,20,IF(E3<84,16,IF(E3<88,12,IF(E3<93,8,IF(E3<97,4,IF(E3<99,2,0)))))))))))/100))","v":""},{"$f":"IF(C3=\"N=50\",IF(ISBLANK(F3),\"\",(IF(F3=0,4,IF(F3<4,8,IF(F3<6,10,IF(F3<8,12,IF(F3<14,14,IF(F3<22,16,IF(F3<62,18,IF(F3<72,16,IF(F3<80,14,IF(F3<84,12,IF(F3<88,10,IF(F3<92,8,IF(F3<94,6,IF(F3<97,4,IF(F3<99,2,0))))))))))))))))/100),IF(ISBLANK(F3),\"\",(IF(F3=0,8,IF(F3<8,16,IF(F3<16,20,IF(F3<64,24,IF(F3<76,20,IF(F3<84,16,IF(F3<88,12,IF(F3<93,8,IF(F3<97,4,IF(F3<99,2,0)))))))))))/100))","v":""},{"$f":"IF(C3=\"N=50\",IF(ISBLANK(G3),\"\",(IF(G3=0,4,IF(G3<4,8,IF(G3<6,10,IF(G3<8,12,IF(G3<14,14,IF(G3<22,16,IF(G3<62,18,IF(G3<72,16,IF(G3<80,14,IF(G3<84,12,IF(G3<88,10,IF(G3<92,8,IF(G3<94,6,IF(G3<97,4,IF(G3<99,2,0))))))))))))))))/100),IF(ISBLANK(G3),\"\",(IF(G3=0,8,IF(G3<8,16,IF(G3<16,20,IF(G3<64,24,IF(G3<76,20,IF(G3<84,16,IF(G3<88,12,IF(G3<93,8,IF(G3<97,4,IF(G3<99,2,0)))))))))))/100))","v":""}]
[null,null,null,null,null,null,null,null,"信賴區間(-)",null,{"$f":"IF(C3=\"N=50\",IF(ISBLANK(E3),\"\",(IF(E3=100,4,IF(E3>96,8,IF(E3>94,10,IF(E3>92,12,IF(E3>86,14,IF(E3>78,16,IF(E3>38,18,IF(E3>28,16,IF(E3>20,14,IF(E3>16,12,IF(E3>12,10,IF(E3>8,8,IF(E3>6,6,IF(E3>3,4,IF(E3>1,2,0))))))))))))))))/100),IF(ISBLANK(E3),\"\",(IF(E3=100,8,IF(E3>92,16,IF(E3>84,20,IF(E3>36,24,IF(E3>24,20,IF(E3>16,16,IF(E3>12,12,IF(E3>7,8,IF(E3>5,6,IF(E3>3,4,IF(E3>1,2,0))))))))))))/100))","v":""},{"$f":"IF(C3=\"N=50\",IF(ISBLANK(F3),\"\",(IF(F3=100,4,IF(F3>96,8,IF(F3>94,10,IF(F3>92,12,IF(F3>86,14,IF(F3>78,16,IF(F3>38,18,IF(F3>28,16,IF(F3>20,14,IF(F3>16,12,IF(F3>12,10,IF(F3>8,8,IF(F3>6,6,IF(F3>3,4,IF(F3>1,2,0))))))))))))))))/100),IF(ISBLANK(F3),\"\",(IF(F3=100,8,IF(F3>92,16,IF(F3>84,20,IF(F3>36,24,IF(F3>24,20,IF(F3>16,16,IF(F3>12,12,IF(F3>7,8,IF(F3>5,6,IF(F3>3,4,IF(F3>1,2,0))))))))))))/100))","v":""},{"$f":"IF(C3=\"N=50\",IF(ISBLANK(G3),\"\",(IF(G3=100,4,IF(G3>96,8,IF(G3>94,10,IF(G3>92,12,IF(G3>86,14,IF(G3>78,16,IF(G3>38,18,IF(G3>28,16,IF(G3>20,14,IF(G3>16,12,IF(G3>12,10,IF(G3>8,8,IF(G3>6,6,IF(G3>3,4,IF(G3>1,2,0))))))))))))))))/100),IF(ISBLANK(G3),\"\",(IF(G3=100,8,IF(G3>92,16,IF(G3>84,20,IF(G3>36,24,IF(G3>24,20,IF(G3>16,16,IF(G3>12,12,IF(G3>7,8,IF(G3>5,6,IF(G3>3,4,IF(G3>1,2,0))))))))))))/100))","v":""}]
[]
[null,null,null,null,null,null,null,null,"設定用，請勿改動："]
[null,null,null,null,null,null,null,null,"遊戲得分理想值",{"$f":"試玩遊戲得分樣本群!H6","v":28.588414845896615}]
[]
[]
[]
[]
[]
[]
[]
[]
[]
[]
[]
[]
[]
[]
[]
[]
[]
[]
[]
[]
["施測 SDS 期間遊戲計分說明：請參考 http://jedi.org/blog/archives/006322.html#proposal 說明。"]

{"sheet":"4 情境","index":2,"n_rows":31,"n_cols":16,"rows_kept":31,"cut":false,"hidden":false,"merged":[[30,0,30,9]]}
[null,"試玩最高","試玩次高","試玩第三","情境一","情境二","情境三","情境四",null,"版本 2021-09-19",null,{"$f":"IF(ISBLANK(E1),\"\",E1)","v":"情境一"},{"$f":"IF(ISBLANK(F1),\"\",F1)","v":"情境二"},{"$f":"IF(ISBLANK(G1),\"\",G1)","v":"情境三"},{"$f":"IF(ISBLANK(H1),\"\",H1)","v":"情境四"}]
["遊戲得分",null,null,null,null,null,null,null,null,"心力負擔（越低越好）",null,{"$f":"IF(ISBLANK(E2),\"\",MAX(0,LOG10((AVERAGE(B2:C2)+(K10/9))/(E2+(K10/9)))))","v":""},{"$f":"IF(ISBLANK(F2),\"\",MAX(0,LOG10((AVERAGE(B2:C2)+(K10/9))/(F2+(K10/9)))))","v":""},{"$f":"IF(ISBLANK(G2),\"\",MAX(0,LOG10((AVERAGE(B2:C2)+(K10/9))/(G2+(K10/9)))))","v":""},{"$f":"IF(ISBLANK(H2),\"\",MAX(0,LOG10((AVERAGE(B2:C2)+(K10/9))/(H2+(K10/9)))))","v":""}]
[null,null,"N=25","SDS (%)",null,null,null,null,null,"語音辨識率",null,{"$f":"IF(ISBLANK(E3),\"\",E3/100)","v":""},{"$f":"IF(ISBLANK(F3),\"\",F3/100)","v":""},{"$f":"IF(ISBLANK(G3),\"\",G3/100)","v":""},{"$f":"IF(ISBLANK(H3),\"\",H3/100)","v":""}]
[null,null,null,null,null,null,null,null,null,"基礎心力容餘",{"$f":"MIN(1,LOG10((AVERAGE(B2:C2)+(K10/9))/(K10/9)))","v":{"$error":"#DIV/0!"}},{"$f":"K4","v":{"$error":"#DIV/0!"}},{"$f":"L4","v":{"$error":"#DIV/0!"}},{"$f":"M4","v":{"$error":"#DIV/0!"}},{"$f":"N4","v":{"$error":"#DIV/0!"}},{"$f":"O4","v":{"$error":"#DIV/0!"}}]
[null,null,"N=50",null,null,null,null,null,null,"輕鬆聆聽",{"$f":"MAX(0,MIN(1,LOG10((AVERAGE(B2:C2)+(K10/9))/(D2+(K10/9)))))","v":{"$error":"#DIV/0!"}},{"$f":"K5","v":{"$error":"#DIV/0!"}},{"$f":"L5","v":{"$error":"#DIV/0!"}},{"$f":"M5","v":{"$error":"#DIV/0!"}},{"$f":"N5","v":{"$error":"#DIV/0!"}},{"$error":"#DIV/0!"}]
[null,null,"N=25",null,null,null,null,null,null,"信賴區間(+)",null,{"$f":"IF(C3=\"N=50\",IF(ISBLANK(E3),\"\",(IF(E3=0,4,IF(E3<4,8,IF(E3<6,10,IF(E3<8,12,IF(E3<14,14,IF(E3<22,16,IF(E3<62,18,IF(E3<72,16,IF(E3<80,14,IF(E3<84,12,IF(E3<88,10,IF(E3<92,8,IF(E3<94,6,IF(E3<97,4,IF(E3<99,2,0))))))))))))))))/100),IF(ISBLANK(E3),\"\",(IF(E3=0,8,IF(E3<8,16,IF(E3<16,20,IF(E3<64,24,IF(E3<76,20,IF(E3<84,16,IF(E3<88,12,IF(E3<93,8,IF(E3<97,4,IF(E3<99,2,0)))))))))))/100))","v":""},{"$f":"IF(C3=\"N=50\",IF(ISBLANK(F3),\"\",(IF(F3=0,4,IF(F3<4,8,IF(F3<6,10,IF(F3<8,12,IF(F3<14,14,IF(F3<22,16,IF(F3<62,18,IF(F3<72,16,IF(F3<80,14,IF(F3<84,12,IF(F3<88,10,IF(F3<92,8,IF(F3<94,6,IF(F3<97,4,IF(F3<99,2,0))))))))))))))))/100),IF(ISBLANK(F3),\"\",(IF(F3=0,8,IF(F3<8,16,IF(F3<16,20,IF(F3<64,24,IF(F3<76,20,IF(F3<84,16,IF(F3<88,12,IF(F3<93,8,IF(F3<97,4,IF(F3<99,2,0)))))))))))/100))","v":""},{"$f":"IF(C3=\"N=50\",IF(ISBLANK(G3),\"\",(IF(G3=0,4,IF(G3<4,8,IF(G3<6,10,IF(G3<8,12,IF(G3<14,14,IF(G3<22,16,IF(G3<62,18,IF(G3<72,16,IF(G3<80,14,IF(G3<84,12,IF(G3<88,10,IF(G3<92,8,IF(G3<94,6,IF(G3<97,4,IF(G3<99,2,0))))))))))))))))/100),IF(ISBLANK(G3),\"\",(IF(G3=0,8,IF(G3<8,16,IF(G3<16,20,IF(G3<64,24,IF(G3<76,20,IF(G3<84,16,IF(G3<88,12,IF(G3<93,8,IF(G3<97,4,IF(G3<99,2,0)))))))))))/100))","v":""},{"$f":"IF(C3=\"N=50\",IF(ISBLANK(H3),\"\",(IF(H3=0,4,IF(H3<4,8,IF(H3<6,10,IF(H3<8,12,IF(H3<14,14,IF(H3<22,16,IF(H3<62,18,IF(H3<72,16,IF(H3<80,14,IF(H3<84,12,IF(H3<88,10,IF(H3<92,8,IF(H3<94,6,IF(H3<97,4,IF(H3<99,2,0))))))))))))))))/100),IF(ISBLANK(H3),\"\",(IF(H3=0,8,IF(H3<8,16,IF(H3<16,20,IF(H3<64,24,IF(H3<76,20,IF(H3<84,16,IF(H3<88,12,IF(H3<93,8,IF(H3<97,4,IF(H3<99,2,0)))))))))))/100))","v":""}]
[null,null,null,null,null,null,null,null,null,"信賴區間(-)",null,{"$f":"IF(C3=\"N=50\",IF(ISBLANK(E3),\"\",(IF(E3=100,4,IF(E3>96,8,IF(E3>94,10,IF(E3>92,12,IF(E3>86,14,IF(E3>78,16,IF(E3>38,18,IF(E3>28,16,IF(E3>20,14,IF(E3>16,12,IF(E3>12,10,IF(E3>8,8,IF(E3>6,6,IF(E3>3,4,IF(E3>1,2,0))))))))))))))))/100),IF(ISBLANK(E3),\"\",(IF(E3=100,8,IF(E3>92,16,IF(E3>84,20,IF(E3>36,24,IF(E3>24,20,IF(E3>16,16,IF(E3>12,12,IF(E3>7,8,IF(E3>5,6,IF(E3>3,4,IF(E3>1,2,0))))))))))))/100))","v":""},{"$f":"IF(C3=\"N=50\",IF(ISBLANK(F3),\"\",(IF(F3=100,4,IF(F3>96,8,IF(F3>94,10,IF(F3>92,12,IF(F3>86,14,IF(F3>78,16,IF(F3>38,18,IF(F3>28,16,IF(F3>20,14,IF(F3>16,12,IF(F3>12,10,IF(F3>8,8,IF(F3>6,6,IF(F3>3,4,IF(F3>1,2,0))))))))))))))))/100),IF(ISBLANK(F3),\"\",(IF(F3=100,8,IF(F3>92,16,IF(F3>84,20,IF(F3>36,24,IF(F3>24,20,IF(F3>16,16,IF(F3>12,12,IF(F3>7,8,IF(F3>5,6,IF(F3>3,4,IF(F3>1,2,0))))))))))))/100))","v":""},{"$f":"IF(C3=\"N=50\",IF(ISBLANK(G3),\"\",(IF(G3=100,4,IF(G3>96,8,IF(G3>94,10,IF(G3>92,12,IF(G3>86,14,IF(G3>78,16,IF(G3>38,18,IF(G3>28,16,IF(G3>20,14,IF(G3>16,12,IF(G3>12,10,IF(G3>8,8,IF(G3>6,6,IF(G3>3,4,IF(G3>1,2,0))))))))))))))))/100),IF(ISBLANK(G3),\"\",(IF(G3=100,8,IF(G3>92,16,IF(G3>84,20,IF(G3>36,24,IF(G3>24,20,IF(G3>16,16,IF(G3>12,12,IF(G3>7,8,IF(G3>5,6,IF(G3>3,4,IF(G3>1,2,0))))))))))))/100))","v":""},{"$f":"IF(C3=\"N=50\",IF(ISBLANK(H3),\"\",(IF(H3=100,4,IF(H3>96,8,IF(H3>94,10,IF(H3>92,12,IF(H3>86,14,IF(H3>78,16,IF(H3>38,18,IF(H3>28,16,IF(H3>20,14,IF(H3>16,12,IF(H3>12,10,IF(H3>8,8,IF(H3>6,6,IF(H3>3,4,IF(H3>1,2,0))))))))))))))))/100),IF(ISBLANK(H3),\"\",(IF(H3=100,8,IF(H3>92,16,IF(H3>84,20,IF(H3>36,24,IF(H3>24,20,IF(H3>16,16,IF(H3>12,12,IF(H3>7,8,IF(H3>5,6,IF(H3>3,4,IF(H3>1,2,0))))))))))))/100))","v":""}]
[]
[null,null,null,null,null,null,null,null,null,"設定用，請勿改動："]
[null,null,null,null,null,null,null,null,null,"遊戲得分理想值",{"$f":"試玩遊戲得分樣本群!H6","v":28.588414845896615}]
[]
[]
[]
[]
[]
[]
[]
[]
[]
[]
[]
[]
[]
[]
[]
[]
[]
[]
[]
[]
["施測 SDS 期間遊戲計分說明：請參考 http://jedi.org/blog/archives/006322.html#proposal 說明。"]

{"sheet":"5 情境","index":3,"n_rows":31,"n_cols":18,"rows_kept":31,"cut":false,"hidden":false,"merged":[[30,0,30,8]]}
[null,"試玩最高","試玩次高","試玩第三","情境一","情境二","情境三","情境四","情境五",null,"版本 2021-09-19",null,{"$f":"IF(ISBLANK(E1),\"\",E1)","v":"情境一"},{"$f":"IF(ISBLANK(F1),\"\",F1)","v":"情境二"},"情境三","情境四","情境五"]
["遊戲得分",null,null,null,null,null,null,null,null,null,"心力負擔（越低越好）",null,{"$f":"IF(ISBLANK(E2),\"\",MAX(0,LOG10((AVERAGE(B2:C2)+(L10/9))/(E2+(L10/9)))))","v":""},{"$f":"IF(ISBLANK(F2),\"\",MAX(0,LOG10((AVERAGE(B2:C2)+(L10/9))/(F2+(L10/9)))))","v":""},{"$f":"IF(ISBLANK(G2),\"\",MAX(0,LOG10((AVERAGE(B2:C2)+(L10/9))/(G2+(L10/9)))))","v":""},{"$f":"IF(ISBLANK(H2),\"\",MAX(0,LOG10((AVERAGE(B2:C2)+(L10/9))/(H2+(L10/9)))))","v":""},{"$f":"IF(ISBLANK(I2),\"\",MAX(0,LOG10((AVERAGE(B2:C2)+(L10/9))/(I2+(L10/9)))))","v":""}]
[null,null,"N=25","SDS (%)",null,null,null,null,null,null,"語音辨識率",null,{"$f":"IF(ISBLANK(E3),\"\",E3/100)","v":""},{"$f":"IF(ISBLANK(F3),\"\",F3/100)","v":""},"","",""]
[null,null,null,null,null,null,null,null,null,null,"基礎心力容餘",{"$f":"MIN(1,LOG10((AVERAGE(B2:C2)+(L10/9))/(L10/9)))","v":{"$error":"#DIV/0!"}},{"$f":"L4","v":{"$error":"#DIV/0!"}},{"$f":"M4","v":{"$error":"#DIV/0!"}},{"$f":"N4","v":{"$error":"#DIV/0!"}},{"$f":"O4","v":{"$error":"#DIV/0!"}},{"$f":"P4","v":{"$error":"#DIV/0!"}},{"$error":"#DIV/0!"}]
[null,null,"N=50",null,null,null,null,null,null,null,"輕鬆聆聽",{"$f":"MAX(0,MIN(1,LOG10((AVERAGE(B2:C2)+(L10/9))/(D2+(L10/9)))))","v":{"$error":"#DIV/0!"}},{"$f":"L5","v":{"$error":"#DIV/0!"}},{"$f":"M5","v":{"$error":"#DIV/0!"}},{"$f":"N5","v":{"$error":"#DIV/0!"}},{"$f":"O5","v":{"$error":"#DIV/0!"}},{"$error":"#DIV/0!"},{"$error":"#DIV/0!"}]
[null,null,"N=25",null,null,null,null,null,null,null,"信賴區間(+)",null,{"$f":"IF(C3=\"N=50\",IF(ISBLANK(E3),\"\",(IF(E3=0,4,IF(E3<4,8,IF(E3<6,10,IF(E3<8,12,IF(E3<14,14,IF(E3<22,16,IF(E3<62,18,IF(E3<72,16,IF(E3<80,14,IF(E3<84,12,IF(E3<88,10,IF(E3<92,8,IF(E3<94,6,IF(E3<97,4,IF(E3<99,2,0))))))))))))))))/100),IF(ISBLANK(E3),\"\",(IF(E3=0,8,IF(E3<8,16,IF(E3<16,20,IF(E3<64,24,IF(E3<76,20,IF(E3<84,16,IF(E3<88,12,IF(E3<93,8,IF(E3<97,4,IF(E3<99,2,0)))))))))))/100))","v":""},{"$f":"IF(C3=\"N=50\",IF(ISBLANK(F3),\"\",(IF(F3=0,4,IF(F3<4,8,IF(F3<6,10,IF(F3<8,12,IF(F3<14,14,IF(F3<22,16,IF(F3<62,18,IF(F3<72,16,IF(F3<80,14,IF(F3<84,12,IF(F3<88,10,IF(F3<92,8,IF(F3<94,6,IF(F3<97,4,IF(F3<99,2,0))))))))))))))))/100),IF(ISBLANK(F3),\"\",(IF(F3=0,8,IF(F3<8,16,IF(F3<16,20,IF(F3<64,24,IF(F3<76,20,IF(F3<84,16,IF(F3<88,12,IF(F3<93,8,IF(F3<97,4,IF(F3<99,2,0)))))))))))/100))","v":""},{"$f":"IF(C3=\"N=50\",IF(ISBLANK(G3),\"\",(IF(G3=0,4,IF(G3<4,8,IF(G3<6,10,IF(G3<8,12,IF(G3<14,14,IF(G3<22,16,IF(G3<62,18,IF(G3<72,16,IF(G3<80,14,IF(G3<84,12,IF(G3<88,10,IF(G3<92,8,IF(G3<94,6,IF(G3<97,4,IF(G3<99,2,0))))))))))))))))/100),IF(ISBLANK(G3),\"\",(IF(G3=0,8,IF(G3<8,16,IF(G3<16,20,IF(G3<64,24,IF(G3<76,20,IF(G3<84,16,IF(G3<88,12,IF(G3<93,8,IF(G3<97,4,IF(G3<99,2,0)))))))))))/100))","v":""},{"$f":"IF(C3=\"N=50\",IF(ISBLANK(H3),\"\",(IF(H3=0,4,IF(H3<4,8,IF(H3<6,10,IF(H3<8,12,IF(H3<14,14,IF(H3<22,16,IF(H3<62,18,IF(H3<72,16,IF(H3<80,14,IF(H3<84,12,IF(H3<88,10,IF(H3<92,8,IF(H3<94,6,IF(H3<97,4,IF(H3<99,2,0))))))))))))))))/100),IF(ISBLANK(H3),\"\",(IF(H3=0,8,IF(H3<8,16,IF(H3<16,20,IF(H3<64,24,IF(H3<76,20,IF(H3<84,16,IF(H3<88,12,IF(H3<93,8,IF(H3<97,4,IF(H3<99,2,0)))))))))))/100))","v":""},{"$f":"IF(C3=\"N=50\",IF(ISBLANK(I3),\"\",(IF(I3=0,4,IF(I3<4,8,IF(I3<6,10,IF(I3<8,12,IF(I3<14,14,IF(I3<22,16,IF(I3<62,18,IF(I3<72,16,IF(I3<80,14,IF(I3<84,12,IF(I3<88,10,IF(I3<92,8,IF(I3<94,6,IF(I3<97,4,IF(I3<99,2,0))))))))))))))))/100),IF(ISBLANK(I3),\"\",(IF(I3=0,8,IF(I3<8,16,IF(I3<16,20,IF(I3<64,24,IF(I3<76,20,IF(I3<84,16,IF(I3<88,12,IF(I3<93,8,IF(I3<97,4,IF(I3<99,2,0)))))))))))/100))","v":""}]
[null,null,null,null,null,null,null,null,null,null,"信賴區間(-)",null,{"$f":"IF(C3=\"N=50\",IF(ISBLANK(E3),\"\",(IF(E3=100,4,IF(E3>96,8,IF(E3>94,10,IF(E3>92,12,IF(E3>86,14,IF(E3>78,16,IF(E3>38,18,IF(E3>28,16,IF(E3>20,14,IF(E3>16,12,IF(E3>12,10,IF(E3>8,8,IF(E3>6,6,IF(E3>3,4,IF(E3>1,2,0))))))))))))))))/100),IF(ISBLANK(E3),\"\",(IF(E3=100,8,IF(E3>92,16,IF(E3>84,20,IF(E3>36,24,IF(E3>24,20,IF(E3>16,16,IF(E3>12,12,IF(E3>7,8,IF(E3>5,6,IF(E3>3,4,IF(E3>1,2,0))))))))))))/100))","v":""},{"$f":"IF(C3=\"N=50\",IF(ISBLANK(F3),\"\",(IF(F3=100,4,IF(F3>96,8,IF(F3>94,10,IF(F3>92,12,IF(F3>86,14,IF(F3>78,16,IF(F3>38,18,IF(F3>28,16,IF(F3>20,14,IF(F3>16,12,IF(F3>12,10,IF(F3>8,8,IF(F3>6,6,IF(F3>3,4,IF(F3>1,2,0))))))))))))))))/100),IF(ISBLANK(F3),\"\",(IF(F3=100,8,IF(F3>92,16,IF(F3>84,20,IF(F3>36,24,IF(F3>24,20,IF(F3>16,16,IF(F3>12,12,IF(F3>7,8,IF(F3>5,6,IF(F3>3,4,IF(F3>1,2,0))))))))))))/100))","v":""},{"$f":"IF(C3=\"N=50\",IF(ISBLANK(G3),\"\",(IF(G3=100,4,IF(G3>96,8,IF(G3>94,10,IF(G3>92,12,IF(G3>86,14,IF(G3>78,16,IF(G3>38,18,IF(G3>28,16,IF(G3>20,14,IF(G3>16,12,IF(G3>12,10,IF(G3>8,8,IF(G3>6,6,IF(G3>3,4,IF(G3>1,2,0))))))))))))))))/100),IF(ISBLANK(G3),\"\",(IF(G3=100,8,IF(G3>92,16,IF(G3>84,20,IF(G3>36,24,IF(G3>24,20,IF(G3>16,16,IF(G3>12,12,IF(G3>7,8,IF(G3>5,6,IF(G3>3,4,IF(G3>1,2,0))))))))))))/100))","v":""},{"$f":"IF(C3=\"N=50\",IF(ISBLANK(H3),\"\",(IF(H3=100,4,IF(H3>96,8,IF(H3>94,10,IF(H3>92,12,IF(H3>86,14,IF(H3>78,16,IF(H3>38,18,IF(H3>28,16,IF(H3>20,14,IF(H3>16,12,IF(H3>12,10,IF(H3>8,8,IF(H3>6,6,IF(H3>3,4,IF(H3>1,2,0))))))))))))))))/100),IF(ISBLANK(H3),\"\",(IF(H3=100,8,IF(H3>92,16,IF(H3>84,20,IF(H3>36,24,IF(H3>24,20,IF(H3>16,16,IF(H3>12,12,IF(H3>7,8,IF(H3>5,6,IF(H3>3,4,IF(H3>1,2,0))))))))))))/100))","v":""},{"$f":"IF(C3=\"N=50\",IF(ISBLANK(I3),\"\",(IF(I3=100,4,IF(I3>96,8,IF(I3>94,10,IF(I3>92,12,IF(I3>86,14,IF(I3>78,16,IF(I3>38,18,IF(I3>28,16,IF(I3>20,14,IF(I3>16,12,IF(I3>12,10,IF(I3>8,8,IF(I3>6,6,IF(I3>3,4,IF(I3>1,2,0))))))))))))))))/100),IF(ISBLANK(I3),\"\",(IF(I3=100,8,IF(I3>92,16,IF(I3>84,20,IF(I3>36,24,IF(I3>24,20,IF(I3>16,16,IF(I3>12,12,IF(I3>7,8,IF(I3>5,6,IF(I3>3,4,IF(I3>1,2,0))))))))))))/100))","v":""}]
[]
[null,null,null,null,null,null,null,null,null,null,"設定用，請勿改動："]
[null,null,null,null,null,null,null,null,null,null,"遊戲得分理想值",{"$f":"試玩遊戲得分樣本群!H6","v":28.588414845896615}]
[]
[]
[]
[]
[]
[]
[]
[]
[]
[]
[]
[]
[]
[]
[]
[]
[]
[]
[]
[]
["施測 SDS 期間遊戲計分說明：請參考 http://jedi.org/blog/archives/006322.html#proposal 說明。"]

{"sheet":"6 情境","index":4,"n_rows":31,"n_cols":20,"rows_kept":31,"cut":false,"hidden":false,"merged":[[30,0,30,9]]}
[null,"試玩最高","試玩次高","試玩第三","情境一","情境二","情境三","情境四","情境五","情境六",null,"版本 2021-09-19",null,{"$f":"IF(ISBLANK(E1),\"\",E1)","v":"情境一"},"情境二","情境三","情境四","情境五","情境六"]
["遊戲得分",null,null,null,null,null,null,null,null,null,null,"心力負擔（越低越好）",null,{"$f":"IF(ISBLANK(E2),\"\",MAX(0,LOG10((AVERAGE(B2:C2)+(M10/9))/(E2+(M10/9)))))","v":""},{"$f":"IF(ISBLANK(F2),\"\",MAX(0,LOG10((AVERAGE(B2:C2)+(M10/9))/(F2+(M10/9)))))","v":""},{"$f":"IF(ISBLANK(G2),\"\",MAX(0,LOG10((AVERAGE(B2:C2)+(M10/9))/(G2+(M10/9)))))","v":""},{"$f":"IF(ISBLANK(H2),\"\",MAX(0,LOG10((AVERAGE(B2:C2)+(M10/9))/(H2+(M10/9)))))","v":""},{"$f":"IF(ISBLANK(I2),\"\",MAX(0,LOG10((AVERAGE(B2:C2)+(M10/9))/(I2+(M10/9)))))","v":""},{"$f":"IF(ISBLANK(J2),\"\",MAX(0,LOG10((AVERAGE(B2:C2)+(M10/9))/(J2+(M10/9)))))","v":""}]
[null,null,"N=25","SDS (%)",null,null,null,null,null,null,null,"語音辨識率",null,{"$f":"IF(ISBLANK(E3),\"\",E3/100)","v":""},"","","","",""]
[null,null,null,null,null,null,null,null,null,null,null,"基礎心力容餘",{"$f":"MIN(1,LOG10((AVERAGE(B2:C2)+(M10/9))/(M10/9)))","v":{"$error":"#DIV/0!"}},{"$f":"M4","v":{"$error":"#DIV/0!"}},{"$f":"N4","v":{"$error":"#DIV/0!"}},{"$f":"O4","v":{"$error":"#DIV/0!"}},{"$f":"P4","v":{"$error":"#DIV/0!"}},{"$f":"Q4","v":{"$error":"#DIV/0!"}},{"$f":"R4","v":{"$error":"#DIV/0!"}},{"$error":"#DIV/0!"}]
[null,null,"N=50",null,null,null,null,null,null,null,null,"輕鬆聆聽",{"$f":"MAX(0,MIN(1,LOG10((AVERAGE(B2:C2)+(M10/9))/(D2+(M10/9)))))","v":{"$error":"#DIV/0!"}},{"$f":"M5","v":{"$error":"#DIV/0!"}},{"$f":"N5","v":{"$error":"#DIV/0!"}},{"$f":"O5","v":{"$error":"#DIV/0!"}},{"$f":"P5","v":{"$error":"#DIV/0!"}},{"$f":"Q5","v":{"$error":"#DIV/0!"}},{"$error":"#DIV/0!"},{"$error":"#DIV/0!"}]
[null,null,"N=25",null,null,null,null,null,null,null,null,"信賴區間(+)",null,{"$f":"IF(C3=\"N=50\",IF(ISBLANK(E3),\"\",(IF(E3=0,4,IF(E3<4,8,IF(E3<6,10,IF(E3<8,12,IF(E3<14,14,IF(E3<22,16,IF(E3<62,18,IF(E3<72,16,IF(E3<80,14,IF(E3<84,12,IF(E3<88,10,IF(E3<92,8,IF(E3<94,6,IF(E3<97,4,IF(E3<99,2,0))))))))))))))))/100),IF(ISBLANK(E3),\"\",(IF(E3=0,8,IF(E3<8,16,IF(E3<16,20,IF(E3<64,24,IF(E3<76,20,IF(E3<84,16,IF(E3<88,12,IF(E3<93,8,IF(E3<97,4,IF(E3<99,2,0)))))))))))/100))","v":""},{"$f":"IF(C3=\"N=50\",IF(ISBLANK(F3),\"\",(IF(F3=0,4,IF(F3<4,8,IF(F3<6,10,IF(F3<8,12,IF(F3<14,14,IF(F3<22,16,IF(F3<62,18,IF(F3<72,16,IF(F3<80,14,IF(F3<84,12,IF(F3<88,10,IF(F3<92,8,IF(F3<94,6,IF(F3<97,4,IF(F3<99,2,0))))))))))))))))/100),IF(ISBLANK(F3),\"\",(IF(F3=0,8,IF(F3<8,16,IF(F3<16,20,IF(F3<64,24,IF(F3<76,20,IF(F3<84,16,IF(F3<88,12,IF(F3<93,8,IF(F3<97,4,IF(F3<99,2,0)))))))))))/100))","v":""},{"$f":"IF(C3=\"N=50\",IF(ISBLANK(G3),\"\",(IF(G3=0,4,IF(G3<4,8,IF(G3<6,10,IF(G3<8,12,IF(G3<14,14,IF(G3<22,16,IF(G3<62,18,IF(G3<72,16,IF(G3<80,14,IF(G3<84,12,IF(G3<88,10,IF(G3<92,8,IF(G3<94,6,IF(G3<97,4,IF(G3<99,2,0))))))))))))))))/100),IF(ISBLANK(G3),\"\",(IF(G3=0,8,IF(G3<8,16,IF(G3<16,20,IF(G3<64,24,IF(G3<76,20,IF(G3<84,16,IF(G3<88,12,IF(G3<93,8,IF(G3<97,4,IF(G3<99,2,0)))))))))))/100))","v":""},{"$f":"IF(C3=\"N=50\",IF(ISBLANK(H3),\"\",(IF(H3=0,4,IF(H3<4,8,IF(H3<6,10,IF(H3<8,12,IF(H3<14,14,IF(H3<22,16,IF(H3<62,18,IF(H3<72,16,IF(H3<80,14,IF(H3<84,12,IF(H3<88,10,IF(H3<92,8,IF(H3<94,6,IF(H3<97,4,IF(H3<99,2,0))))))))))))))))/100),IF(ISBLANK(H3),\"\",(IF(H3=0,8,IF(H3<8,16,IF(H3<16,20,IF(H3<64,24,IF(H3<76,20,IF(H3<84,16,IF(H3<88,12,IF(H3<93,8,IF(H3<97,4,IF(H3<99,2,0)))))))))))/100))","v":""},{"$f":"IF(C3=\"N=50\",IF(ISBLANK(I3),\"\",(IF(I3=0,4,IF(I3<4,8,IF(I3<6,10,IF(I3<8,12,IF(I3<14,14,IF(I3<22,16,IF(I3<62,18,IF(I3<72,16,IF(I3<80,14,IF(I3<84,12,IF(I3<88,10,IF(I3<92,8,IF(I3<94,6,IF(I3<97,4,IF(I3<99,2,0))))))))))))))))/100),IF(ISBLANK(I3),\"\",(IF(I3=0,8,IF(I3<8,16,IF(I3<16,20,IF(I3<64,24,IF(I3<76,20,IF(I3<84,16,IF(I3<88,12,IF(I3<93,8,IF(I3<97,4,IF(I3<99,2,0)))))))))))/100))","v":""},{"$f":"IF(C3=\"N=50\",IF(ISBLANK(J3),\"\",(IF(J3=0,4,IF(J3<4,8,IF(J3<6,10,IF(J3<8,12,IF(J3<14,14,IF(J3<22,16,IF(J3<62,18,IF(J3<72,16,IF(J3<80,14,IF(J3<84,12,IF(J3<88,10,IF(J3<92,8,IF(J3<94,6,IF(J3<97,4,IF(J3<99,2,0))))))))))))))))/100),IF(ISBLANK(J3),\"\",(IF(J3=0,8,IF(J3<8,16,IF(J3<16,20,IF(J3<64,24,IF(J3<76,20,IF(J3<84,16,IF(J3<88,12,IF(J3<93,8,IF(J3<97,4,IF(J3<99,2,0)))))))))))/100))","v":""}]
[null,null,null,null,null,null,null,null,null,null,null,"信賴區間(-)",null,{"$f":"IF(C3=\"N=50\",IF(ISBLANK(E3),\"\",(IF(E3=100,4,IF(E3>96,8,IF(E3>94,10,IF(E3>92,12,IF(E3>86,14,IF(E3>78,16,IF(E3>38,18,IF(E3>28,16,IF(E3>20,14,IF(E3>16,12,IF(E3>12,10,IF(E3>8,8,IF(E3>6,6,IF(E3>3,4,IF(E3>1,2,0))))))))))))))))/100),IF(ISBLANK(E3),\"\",(IF(E3=100,8,IF(E3>92,16,IF(E3>84,20,IF(E3>36,24,IF(E3>24,20,IF(E3>16,16,IF(E3>12,12,IF(E3>7,8,IF(E3>5,6,IF(E3>3,4,IF(E3>1,2,0))))))))))))/100))","v":""},{"$f":"IF(C3=\"N=50\",IF(ISBLANK(F3),\"\",(IF(F3=100,4,IF(F3>96,8,IF(F3>94,10,IF(F3>92,12,IF(F3>86,14,IF(F3>78,16,IF(F3>38,18,IF(F3>28,16,IF(F3>20,14,IF(F3>16,12,IF(F3>12,10,IF(F3>8,8,IF(F3>6,6,IF(F3>3,4,IF(F3>1,2,0))))))))))))))))/100),IF(ISBLANK(F3),\"\",(IF(F3=100,8,IF(F3>92,16,IF(F3>84,20,IF(F3>36,24,IF(F3>24,20,IF(F3>16,16,IF(F3>12,12,IF(F3>7,8,IF(F3>5,6,IF(F3>3,4,IF(F3>1,2,0))))))))))))/100))","v":""},{"$f":"IF(C3=\"N=50\",IF(ISBLANK(G3),\"\",(IF(G3=100,4,IF(G3>96,8,IF(G3>94,10,IF(G3>92,12,IF(G3>86,14,IF(G3>78,16,IF(G3>38,18,IF(G3>28,16,IF(G3>20,14,IF(G3>16,12,IF(G3>12,10,IF(G3>8,8,IF(G3>6,6,IF(G3>3,4,IF(G3>1,2,0))))))))))))))))/100),IF(ISBLANK(G3),\"\",(IF(G3=100,8,IF(G3>92,16,IF(G3>84,20,IF(G3>36,24,IF(G3>24,20,IF(G3>16,16,IF(G3>12,12,IF(G3>7,8,IF(G3>5,6,IF(G3>3,4,IF(G3>1,2,0))))))))))))/100))","v":""},{"$f":"IF(C3=\"N=50\",IF(ISBLANK(H3),\"\",(IF(H3=100,4,IF(H3>96,8,IF(H3>94,10,IF(H3>92,12,IF(H3>86,14,IF(H3>78,16,IF(H3>38,18,IF(H3>28,16,IF(H3>20,14,IF(H3>16,12,IF(H3>12,10,IF(H3>8,8,IF(H3>6,6,IF(H3>3,4,IF(H3>1,2,0))))))))))))))))/100),IF(ISBLANK(H3),\"\",(IF(H3=100,8,IF(H3>92,16,IF(H3>84,20,IF(H3>36,24,IF(H3>24,20,IF(H3>16,16,IF(H3>12,12,IF(H3>7,8,IF(H3>5,6,IF(H3>3,4,IF(H3>1,2,0))))))))))))/100))","v":""},{"$f":"IF(C3=\"N=50\",IF(ISBLANK(I3),\"\",(IF(I3=100,4,IF(I3>96,8,IF(I3>94,10,IF(I3>92,12,IF(I3>86,14,IF(I3>78,16,IF(I3>38,18,IF(I3>28,16,IF(I3>20,14,IF(I3>16,12,IF(I3>12,10,IF(I3>8,8,IF(I3>6,6,IF(I3>3,4,IF(I3>1,2,0))))))))))))))))/100),IF(ISBLANK(I3),\"\",(IF(I3=100,8,IF(I3>92,16,IF(I3>84,20,IF(I3>36,24,IF(I3>24,20,IF(I3>16,16,IF(I3>12,12,IF(I3>7,8,IF(I3>5,6,IF(I3>3,4,IF(I3>1,2,0))))))))))))/100))","v":""},{"$f":"IF(C3=\"N=50\",IF(ISBLANK(J3),\"\",(IF(J3=100,4,IF(J3>96,8,IF(J3>94,10,IF(J3>92,12,IF(J3>86,14,IF(J3>78,16,IF(J3>38,18,IF(J3>28,16,IF(J3>20,14,IF(J3>16,12,IF(J3>12,10,IF(J3>8,8,IF(J3>6,6,IF(J3>3,4,IF(J3>1,2,0))))))))))))))))/100),IF(ISBLANK(J3),\"\",(IF(J3=100,8,IF(J3>92,16,IF(J3>84,20,IF(J3>36,24,IF(J3>24,20,IF(J3>16,16,IF(J3>12,12,IF(J3>7,8,IF(J3>5,6,IF(J3>3,4,IF(J3>1,2,0))))))))))))/100))","v":""}]
[]
[null,null,null,null,null,null,null,null,null,null,null,"設定用，請勿改動："]
[null,null,null,null,null,null,null,null,null,null,null,"遊戲得分理想值",{"$f":"試玩遊戲得分樣本群!H6","v":28.588414845896615}]
[]
[]
[]
[]
[]
[]
[]
[]
[]
[]
[]
[]
[]
[]
[]
[]
[]
[]
[]
[]
["施測 SDS 期間遊戲計分說明：請參考 http://jedi.org/blog/archives/006322.html#proposal 說明。"]

{"sheet":"8 情境","index":5,"n_rows":31,"n_cols":24,"rows_kept":31,"cut":false,"hidden":false,"merged":[[30,0,30,11]]}
[null,"試玩最高","試玩次高","試玩第三","情境一","情境二","情境三","情境四","情境五","情境六","情境七","情境八",null,"版本 2021-09-19",null,{"$f":"IF(ISBLANK(E1),\"\",E1)","v":"情境一"},"情境二","情境三","情境四","情境五","情境六","情境七","情境八"]
["遊戲得分",null,null,null,null,null,null,null,null,null,null,null,null,"心力負擔（越低越好）",null,{"$f":"IF(ISBLANK(E2),\"\",MAX(0,LOG10((AVERAGE(B2:C2)+(O10/9))/(E2+(O10/9)))))","v":""},{"$f":"IF(ISBLANK(F2),\"\",MAX(0,LOG10((AVERAGE(B2:C2)+(O10/9))/(F2+(O10/9)))))","v":""},{"$f":"IF(ISBLANK(G2),\"\",MAX(0,LOG10((AVERAGE(B2:C2)+(O10/9))/(G2+(O10/9)))))","v":""},{"$f":"IF(ISBLANK(H2),\"\",MAX(0,LOG10((AVERAGE(B2:C2)+(O10/9))/(H2+(O10/9)))))","v":""},{"$f":"IF(ISBLANK(I2),\"\",MAX(0,LOG10((AVERAGE(B2:C2)+(O10/9))/(I2+(O10/9)))))","v":""},{"$f":"IF(ISBLANK(J2),\"\",MAX(0,LOG10((AVERAGE(B2:C2)+(O10/9))/(J2+(O10/9)))))","v":""},{"$f":"IF(ISBLANK(K2),\"\",MAX(0,LOG10((AVERAGE(B2:C2)+(O10/9))/(K2+(O10/9)))))","v":""},{"$f":"IF(ISBLANK(L2),\"\",MAX(0,LOG10((AVERAGE(B2:C2)+(O10/9))/(L2+(O10/9)))))","v":""}]
[null,null,"N=25","SDS (%)",null,null,null,null,null,null,null,null,null,"語音辨識率",null,{"$f":"IF(ISBLANK(E3),\"\",E3/100)","v":""},"","","","","","",""]
[null,null,null,null,null,null,null,null,null,null,null,null,null,"基礎心力容餘",{"$f":"MIN(1,LOG10((AVERAGE(B2:C2)+(O10/9))/(O10/9)))","v":{"$error":"#DIV/0!"}},{"$f":"O4","v":{"$error":"#DIV/0!"}},{"$error":"#DIV/0!"},{"$error":"#DIV/0!"},{"$error":"#DIV/0!"},{"$error":"#DIV/0!"},{"$error":"#DIV/0!"},{"$error":"#DIV/0!"},{"$f":"V4","v":{"$error":"#DIV/0!"}},{"$error":"#DIV/0!"}]
[null,null,"N=50",null,null,null,null,null,null,null,null,null,null,"輕鬆聆聽",{"$f":"MAX(0,MIN(1,LOG10((AVERAGE(B2:C2)+(O10/9))/(D2+(O10/9)))))","v":{"$error":"#DIV/0!"}},{"$f":"O5","v":{"$error":"#DIV/0!"}},{"$f":"P5","v":{"$error":"#DIV/0!"}},{"$f":"Q5","v":{"$error":"#DIV/0!"}},{"$f":"R5","v":{"$error":"#DIV/0!"}},{"$f":"S5","v":{"$error":"#DIV/0!"}},{"$f":"T5","v":{"$error":"#DIV/0!"}},{"$f":"U5","v":{"$error":"#DIV/0!"}},{"$error":"#DIV/0!"},{"$error":"#DIV/0!"}]
[null,null,"N=25",null,null,null,null,null,null,null,null,null,null,"信賴區間(+)",null,{"$f":"IF(C3=\"N=50\",IF(ISBLANK(E3),\"\",(IF(E3=0,4,IF(E3<4,8,IF(E3<6,10,IF(E3<8,12,IF(E3<14,14,IF(E3<22,16,IF(E3<62,18,IF(E3<72,16,IF(E3<80,14,IF(E3<84,12,IF(E3<88,10,IF(E3<92,8,IF(E3<94,6,IF(E3<97,4,IF(E3<99,2,0))))))))))))))))/100),IF(ISBLANK(E3),\"\",(IF(E3=0,8,IF(E3<8,16,IF(E3<16,20,IF(E3<64,24,IF(E3<76,20,IF(E3<84,16,IF(E3<88,12,IF(E3<93,8,IF(E3<97,4,IF(E3<99,2,0)))))))))))/100))","v":""},{"$f":"IF(C3=\"N=50\",IF(ISBLANK(F3),\"\",(IF(F3=0,4,IF(F3<4,8,IF(F3<6,10,IF(F3<8,12,IF(F3<14,14,IF(F3<22,16,IF(F3<62,18,IF(F3<72,16,IF(F3<80,14,IF(F3<84,12,IF(F3<88,10,IF(F3<92,8,IF(F3<94,6,IF(F3<97,4,IF(F3<99,2,0))))))))))))))))/100),IF(ISBLANK(F3),\"\",(IF(F3=0,8,IF(F3<8,16,IF(F3<16,20,IF(F3<64,24,IF(F3<76,20,IF(F3<84,16,IF(F3<88,12,IF(F3<93,8,IF(F3<97,4,IF(F3<99,2,0)))))))))))/100))","v":""},{"$f":"IF(C3=\"N=50\",IF(ISBLANK(G3),\"\",(IF(G3=0,4,IF(G3<4,8,IF(G3<6,10,IF(G3<8,12,IF(G3<14,14,IF(G3<22,16,IF(G3<62,18,IF(G3<72,16,IF(G3<80,14,IF(G3<84,12,IF(G3<88,10,IF(G3<92,8,IF(G3<94,6,IF(G3<97,4,IF(G3<99,2,0))))))))))))))))/100),IF(ISBLANK(G3),\"\",(IF(G3=0,8,IF(G3<8,16,IF(G3<16,20,IF(G3<64,24,IF(G3<76,20,IF(G3<84,16,IF(G3<88,12,IF(G3<93,8,IF(G3<97,4,IF(G3<99,2,0)))))))))))/100))","v":""},{"$f":"IF(C3=\"N=50\",IF(ISBLANK(H3),\"\",(IF(H3=0,4,IF(H3<4,8,IF(H3<6,10,IF(H3<8,12,IF(H3<14,14,IF(H3<22,16,IF(H3<62,18,IF(H3<72,16,IF(H3<80,14,IF(H3<84,12,IF(H3<88,10,IF(H3<92,8,IF(H3<94,6,IF(H3<97,4,IF(H3<99,2,0))))))))))))))))/100),IF(ISBLANK(H3),\"\",(IF(H3=0,8,IF(H3<8,16,IF(H3<16,20,IF(H3<64,24,IF(H3<76,20,IF(H3<84,16,IF(H3<88,12,IF(H3<93,8,IF(H3<97,4,IF(H3<99,2,0)))))))))))/100))","v":""},{"$f":"IF(C3=\"N=50\",IF(ISBLANK(I3),\"\",(IF(I3=0,4,IF(I3<4,8,IF(I3<6,10,IF(I3<8,12,IF(I3<14,14,IF(I3<22,16,IF(I3<62,18,IF(I3<72,16,IF(I3<80,14,IF(I3<84,12,IF(I3<88,10,IF(I3<92,8,IF(I3<94,6,IF(I3<97,4,IF(I3<99,2,0))))))))))))))))/100),IF(ISBLANK(I3),\"\",(IF(I3=0,8,IF(I3<8,16,IF(I3<16,20,IF(I3<64,24,IF(I3<76,20,IF(I3<84,16,IF(I3<88,12,IF(I3<93,8,IF(I3<97,4,IF(I3<99,2,0)))))))))))/100))","v":""},{"$f":"IF(C3=\"N=50\",IF(ISBLANK(J3),\"\",(IF(J3=0,4,IF(J3<4,8,IF(J3<6,10,IF(J3<8,12,IF(J3<14,14,IF(J3<22,16,IF(J3<62,18,IF(J3<72,16,IF(J3<80,14,IF(J3<84,12,IF(J3<88,10,IF(J3<92,8,IF(J3<94,6,IF(J3<97,4,IF(J3<99,2,0))))))))))))))))/100),IF(ISBLANK(J3),\"\",(IF(J3=0,8,IF(J3<8,16,IF(J3<16,20,IF(J3<64,24,IF(J3<76,20,IF(J3<84,16,IF(J3<88,12,IF(J3<93,8,IF(J3<97,4,IF(J3<99,2,0)))))))))))/100))","v":""},{"$f":"IF(C3=\"N=50\",IF(ISBLANK(K3),\"\",(IF(K3=0,4,IF(K3<4,8,IF(K3<6,10,IF(K3<8,12,IF(K3<14,14,IF(K3<22,16,IF(K3<62,18,IF(K3<72,16,IF(K3<80,14,IF(K3<84,12,IF(K3<88,10,IF(K3<92,8,IF(K3<94,6,IF(K3<97,4,IF(K3<99,2,0))))))))))))))))/100),IF(ISBLANK(K3),\"\",(IF(K3=0,8,IF(K3<8,16,IF(K3<16,20,IF(K3<64,24,IF(K3<76,20,IF(K3<84,16,IF(K3<88,12,IF(K3<93,8,IF(K3<97,4,IF(K3<99,2,0)))))))))))/100))","v":""},{"$f":"IF(C3=\"N=50\",IF(ISBLANK(L3),\"\",(IF(L3=0,4,IF(L3<4,8,IF(L3<6,10,IF(L3<8,12,IF(L3<14,14,IF(L3<22,16,IF(L3<62,18,IF(L3<72,16,IF(L3<80,14,IF(L3<84,12,IF(L3<88,10,IF(L3<92,8,IF(L3<94,6,IF(L3<97,4,IF(L3<99,2,0))))))))))))))))/100),IF(ISBLANK(L3),\"\",(IF(L3=0,8,IF(L3<8,16,IF(L3<16,20,IF(L3<64,24,IF(L3<76,20,IF(L3<84,16,IF(L3<88,12,IF(L3<93,8,IF(L3<97,4,IF(L3<99,2,0)))))))))))/100))","v":""}]
[null,null,null,null,null,null,null,null,null,null,null,null,null,"信賴區間(-)",null,{"$f":"IF(C3=\"N=50\",IF(ISBLANK(E3),\"\",(IF(E3=100,4,IF(E3>96,8,IF(E3>94,10,IF(E3>92,12,IF(E3>86,14,IF(E3>78,16,IF(E3>38,18,IF(E3>28,16,IF(E3>20,14,IF(E3>16,12,IF(E3>12,10,IF(E3>8,8,IF(E3>6,6,IF(E3>3,4,IF(E3>1,2,0))))))))))))))))/100),IF(ISBLANK(E3),\"\",(IF(E3=100,8,IF(E3>92,16,IF(E3>84,20,IF(E3>36,24,IF(E3>24,20,IF(E3>16,16,IF(E3>12,12,IF(E3>7,8,IF(E3>5,6,IF(E3>3,4,IF(E3>1,2,0))))))))))))/100))","v":""},{"$f":"IF(C3=\"N=50\",IF(ISBLANK(F3),\"\",(IF(F3=100,4,IF(F3>96,8,IF(F3>94,10,IF(F3>92,12,IF(F3>86,14,IF(F3>78,16,IF(F3>38,18,IF(F3>28,16,IF(F3>20,14,IF(F3>16,12,IF(F3>12,10,IF(F3>8,8,IF(F3>6,6,IF(F3>3,4,IF(F3>1,2,0))))))))))))))))/100),IF(ISBLANK(F3),\"\",(IF(F3=100,8,IF(F3>92,16,IF(F3>84,20,IF(F3>36,24,IF(F3>24,20,IF(F3>16,16,IF(F3>12,12,IF(F3>7,8,IF(F3>5,6,IF(F3>3,4,IF(F3>1,2,0))))))))))))/100))","v":""},{"$f":"IF(C3=\"N=50\",IF(ISBLANK(G3),\"\",(IF(G3=100,4,IF(G3>96,8,IF(G3>94,10,IF(G3>92,12,IF(G3>86,14,IF(G3>78,16,IF(G3>38,18,IF(G3>28,16,IF(G3>20,14,IF(G3>16,12,IF(G3>12,10,IF(G3>8,8,IF(G3>6,6,IF(G3>3,4,IF(G3>1,2,0))))))))))))))))/100),IF(ISBLANK(G3),\"\",(IF(G3=100,8,IF(G3>92,16,IF(G3>84,20,IF(G3>36,24,IF(G3>24,20,IF(G3>16,16,IF(G3>12,12,IF(G3>7,8,IF(G3>5,6,IF(G3>3,4,IF(G3>1,2,0))))))))))))/100))","v":""},{"$f":"IF(C3=\"N=50\",IF(ISBLANK(H3),\"\",(IF(H3=100,4,IF(H3>96,8,IF(H3>94,10,IF(H3>92,12,IF(H3>86,14,IF(H3>78,16,IF(H3>38,18,IF(H3>28,16,IF(H3>20,14,IF(H3>16,12,IF(H3>12,10,IF(H3>8,8,IF(H3>6,6,IF(H3>3,4,IF(H3>1,2,0))))))))))))))))/100),IF(ISBLANK(H3),\"\",(IF(H3=100,8,IF(H3>92,16,IF(H3>84,20,IF(H3>36,24,IF(H3>24,20,IF(H3>16,16,IF(H3>12,12,IF(H3>7,8,IF(H3>5,6,IF(H3>3,4,IF(H3>1,2,0))))))))))))/100))","v":""},{"$f":"IF(C3=\"N=50\",IF(ISBLANK(I3),\"\",(IF(I3=100,4,IF(I3>96,8,IF(I3>94,10,IF(I3>92,12,IF(I3>86,14,IF(I3>78,16,IF(I3>38,18,IF(I3>28,16,IF(I3>20,14,IF(I3>16,12,IF(I3>12,10,IF(I3>8,8,IF(I3>6,6,IF(I3>3,4,IF(I3>1,2,0))))))))))))))))/100),IF(ISBLANK(I3),\"\",(IF(I3=100,8,IF(I3>92,16,IF(I3>84,20,IF(I3>36,24,IF(I3>24,20,IF(I3>16,16,IF(I3>12,12,IF(I3>7,8,IF(I3>5,6,IF(I3>3,4,IF(I3>1,2,0))))))))))))/100))","v":""},{"$f":"IF(C3=\"N=50\",IF(ISBLANK(J3),\"\",(IF(J3=100,4,IF(J3>96,8,IF(J3>94,10,IF(J3>92,12,IF(J3>86,14,IF(J3>78,16,IF(J3>38,18,IF(J3>28,16,IF(J3>20,14,IF(J3>16,12,IF(J3>12,10,IF(J3>8,8,IF(J3>6,6,IF(J3>3,4,IF(J3>1,2,0))))))))))))))))/100),IF(ISBLANK(J3),\"\",(IF(J3=100,8,IF(J3>92,16,IF(J3>84,20,IF(J3>36,24,IF(J3>24,20,IF(J3>16,16,IF(J3>12,12,IF(J3>7,8,IF(J3>5,6,IF(J3>3,4,IF(J3>1,2,0))))))))))))/100))","v":""},{"$f":"IF(C3=\"N=50\",IF(ISBLANK(K3),\"\",(IF(K3=100,4,IF(K3>96,8,IF(K3>94,10,IF(K3>92,12,IF(K3>86,14,IF(K3>78,16,IF(K3>38,18,IF(K3>28,16,IF(K3>20,14,IF(K3>16,12,IF(K3>12,10,IF(K3>8,8,IF(K3>6,6,IF(K3>3,4,IF(K3>1,2,0))))))))))))))))/100),IF(ISBLANK(K3),\"\",(IF(K3=100,8,IF(K3>92,16,IF(K3>84,20,IF(K3>36,24,IF(K3>24,20,IF(K3>16,16,IF(K3>12,12,IF(K3>7,8,IF(K3>5,6,IF(K3>3,4,IF(K3>1,2,0))))))))))))/100))","v":""},{"$f":"IF(C3=\"N=50\",IF(ISBLANK(L3),\"\",(IF(L3=100,4,IF(L3>96,8,IF(L3>94,10,IF(L3>92,12,IF(L3>86,14,IF(L3>78,16,IF(L3>38,18,IF(L3>28,16,IF(L3>20,14,IF(L3>16,12,IF(L3>12,10,IF(L3>8,8,IF(L3>6,6,IF(L3>3,4,IF(L3>1,2,0))))))))))))))))/100),IF(ISBLANK(L3),\"\",(IF(L3=100,8,IF(L3>92,16,IF(L3>84,20,IF(L3>36,24,IF(L3>24,20,IF(L3>16,16,IF(L3>12,12,IF(L3>7,8,IF(L3>5,6,IF(L3>3,4,IF(L3>1,2,0))))))))))))/100))","v":""}]
[]
[null,null,null,null,null,null,null,null,null,null,null,null,null,"設定用，請勿改動："]
[null,null,null,null,null,null,null,null,null,null,null,null,null,"遊戲得分理想值",{"$f":"試玩遊戲得分樣本群!H6","v":28.588414845896615}]
[]
[]
[]
[]
[]
[]
[]
[]
[]
[]
[]
[]
[]
[]
[]
[]
[]
[]
[]
[]
["施測 SDS 期間遊戲計分說明：請參考 http://jedi.org/blog/archives/006322.html#proposal 說明。"]

{"sheet":"10 情境","index":6,"n_rows":31,"n_cols":28,"rows_kept":31,"cut":false,"hidden":false,"merged":[[30,0,30,13]]}
[null,"試玩最高","試玩次高","試玩第三","情境一","情境二","情境三","情境四","情境五","情境六","情境七","情境八","情境九","情境十",null,"版本 2021-09-19",null,{"$f":"IF(ISBLANK(E1),\"\",E1)","v":"情境一"},"情境二","情境三","情境四","情境五","情境六","情境七","情境八","情境九","情境十"]
["遊戲得分",null,null,null,null,null,null,null,null,null,null,null,null,null,null,"心力負擔（越低越好）",null,{"$f":"IF(ISBLANK(E2),\"\",MAX(0,LOG10((AVERAGE(B2:C2)+(Q10/9))/(E2+(Q10/9)))))","v":""},{"$f":"IF(ISBLANK(F2),\"\",MAX(0,LOG10((AVERAGE(B2:C2)+(Q10/9))/(F2+(Q10/9)))))","v":""},{"$f":"IF(ISBLANK(G2),\"\",MAX(0,LOG10((AVERAGE(B2:C2)+(Q10/9))/(G2+(Q10/9)))))","v":""},{"$f":"IF(ISBLANK(H2),\"\",MAX(0,LOG10((AVERAGE(B2:C2)+(Q10/9))/(H2+(Q10/9)))))","v":""},{"$f":"IF(ISBLANK(I2),\"\",MAX(0,LOG10((AVERAGE(B2:C2)+(Q10/9))/(I2+(Q10/9)))))","v":""},{"$f":"IF(ISBLANK(J2),\"\",MAX(0,LOG10((AVERAGE(B2:C2)+(Q10/9))/(J2+(Q10/9)))))","v":""},{"$f":"IF(ISBLANK(K2),\"\",MAX(0,LOG10((AVERAGE(B2:C2)+(Q10/9))/(K2+(Q10/9)))))","v":""},{"$f":"IF(ISBLANK(L2),\"\",MAX(0,LOG10((AVERAGE(B2:C2)+(Q10/9))/(L2+(Q10/9)))))","v":""},{"$f":"IF(ISBLANK(M2),\"\",MAX(0,LOG10((AVERAGE(B2:C2)+(Q10/9))/(M2+(Q10/9)))))","v":""},{"$f":"IF(ISBLANK(N2),\"\",MAX(0,LOG10((AVERAGE(B2:C2)+(Q10/9))/(N2+(Q10/9)))))","v":""}]
[null,null,"N=25","SDS (%)",null,null,null,null,null,null,null,null,null,null,null,"語音辨識率",null,{"$f":"IF(ISBLANK(E3),\"\",E3/100)","v":""},"","","","","","","","",""]
[null,null,null,null,null,null,null,null,null,null,null,null,null,null,null,"基礎心力容餘",{"$f":"MIN(1,LOG10((AVERAGE(B2:C2)+(Q10/9))/(Q10/9)))","v":{"$error":"#DIV/0!"}},{"$f":"Q4","v":{"$error":"#DIV/0!"}},{"$error":"#DIV/0!"},{"$error":"#DIV/0!"},{"$error":"#DIV/0!"},{"$error":"#DIV/0!"},{"$error":"#DIV/0!"},{"$error":"#DIV/0!"},{"$error":"#DIV/0!"},{"$error":"#DIV/0!"},{"$f":"Z4","v":{"$error":"#DIV/0!"}},{"$error":"#DIV/0!"}]
[null,null,"N=50",null,null,null,null,null,null,null,null,null,null,null,null,"輕鬆聆聽",{"$f":"MAX(0,MIN(1,LOG10((AVERAGE(B2:C2)+(Q10/9))/(D2+(Q10/9)))))","v":{"$error":"#DIV/0!"}},{"$f":"Q5","v":{"$error":"#DIV/0!"}},{"$f":"R5","v":{"$error":"#DIV/0!"}},{"$f":"S5","v":{"$error":"#DIV/0!"}},{"$error":"#DIV/0!"},{"$error":"#DIV/0!"},{"$error":"#DIV/0!"},{"$error":"#DIV/0!"},{"$error":"#DIV/0!"},{"$error":"#DIV/0!"},{"$error":"#DIV/0!"},{"$error":"#DIV/0!"}]
[null,null,"N=25",null,null,null,null,null,null,null,null,null,null,null,null,"信賴區間(+)",null,{"$f":"IF(C3=\"N=50\",IF(ISBLANK(E3),\"\",(IF(E3=0,4,IF(E3<4,8,IF(E3<6,10,IF(E3<8,12,IF(E3<14,14,IF(E3<22,16,IF(E3<62,18,IF(E3<72,16,IF(E3<80,14,IF(E3<84,12,IF(E3<88,10,IF(E3<92,8,IF(E3<94,6,IF(E3<97,4,IF(E3<99,2,0))))))))))))))))/100),IF(ISBLANK(E3),\"\",(IF(E3=0,8,IF(E3<8,16,IF(E3<16,20,IF(E3<64,24,IF(E3<76,20,IF(E3<84,16,IF(E3<88,12,IF(E3<93,8,IF(E3<97,4,IF(E3<99,2,0)))))))))))/100))","v":""},{"$f":"IF(C3=\"N=50\",IF(ISBLANK(F3),\"\",(IF(F3=0,4,IF(F3<4,8,IF(F3<6,10,IF(F3<8,12,IF(F3<14,14,IF(F3<22,16,IF(F3<62,18,IF(F3<72,16,IF(F3<80,14,IF(F3<84,12,IF(F3<88,10,IF(F3<92,8,IF(F3<94,6,IF(F3<97,4,IF(F3<99,2,0))))))))))))))))/100),IF(ISBLANK(F3),\"\",(IF(F3=0,8,IF(F3<8,16,IF(F3<16,20,IF(F3<64,24,IF(F3<76,20,IF(F3<84,16,IF(F3<88,12,IF(F3<93,8,IF(F3<97,4,IF(F3<99,2,0)))))))))))/100))","v":""},{"$f":"IF(C3=\"N=50\",IF(ISBLANK(G3),\"\",(IF(G3=0,4,IF(G3<4,8,IF(G3<6,10,IF(G3<8,12,IF(G3<14,14,IF(G3<22,16,IF(G3<62,18,IF(G3<72,16,IF(G3<80,14,IF(G3<84,12,IF(G3<88,10,IF(G3<92,8,IF(G3<94,6,IF(G3<97,4,IF(G3<99,2,0))))))))))))))))/100),IF(ISBLANK(G3),\"\",(IF(G3=0,8,IF(G3<8,16,IF(G3<16,20,IF(G3<64,24,IF(G3<76,20,IF(G3<84,16,IF(G3<88,12,IF(G3<93,8,IF(G3<97,4,IF(G3<99,2,0)))))))))))/100))","v":""},{"$f":"IF(C3=\"N=50\",IF(ISBLANK(H3),\"\",(IF(H3=0,4,IF(H3<4,8,IF(H3<6,10,IF(H3<8,12,IF(H3<14,14,IF(H3<22,16,IF(H3<62,18,IF(H3<72,16,IF(H3<80,14,IF(H3<84,12,IF(H3<88,10,IF(H3<92,8,IF(H3<94,6,IF(H3<97,4,IF(H3<99,2,0))))))))))))))))/100),IF(ISBLANK(H3),\"\",(IF(H3=0,8,IF(H3<8,16,IF(H3<16,20,IF(H3<64,24,IF(H3<76,20,IF(H3<84,16,IF(H3<88,12,IF(H3<93,8,IF(H3<97,4,IF(H3<99,2,0)))))))))))/100))","v":""},{"$f":"IF(C3=\"N=50\",IF(ISBLANK(I3),\"\",(IF(I3=0,4,IF(I3<4,8,IF(I3<6,10,IF(I3<8,12,IF(I3<14,14,IF(I3<22,16,IF(I3<62,18,IF(I3<72,16,IF(I3<80,14,IF(I3<84,12,IF(I3<88,10,IF(I3<92,8,IF(I3<94,6,IF(I3<97,4,IF(I3<99,2,0))))))))))))))))/100),IF(ISBLANK(I3),\"\",(IF(I3=0,8,IF(I3<8,16,IF(I3<16,20,IF(I3<64,24,IF(I3<76,20,IF(I3<84,16,IF(I3<88,12,IF(I3<93,8,IF(I3<97,4,IF(I3<99,2,0)))))))))))/100))","v":""},{"$f":"IF(C3=\"N=50\",IF(ISBLANK(J3),\"\",(IF(J3=0,4,IF(J3<4,8,IF(J3<6,10,IF(J3<8,12,IF(J3<14,14,IF(J3<22,16,IF(J3<62,18,IF(J3<72,16,IF(J3<80,14,IF(J3<84,12,IF(J3<88,10,IF(J3<92,8,IF(J3<94,6,IF(J3<97,4,IF(J3<99,2,0))))))))))))))))/100),IF(ISBLANK(J3),\"\",(IF(J3=0,8,IF(J3<8,16,IF(J3<16,20,IF(J3<64,24,IF(J3<76,20,IF(J3<84,16,IF(J3<88,12,IF(J3<93,8,IF(J3<97,4,IF(J3<99,2,0)))))))))))/100))","v":""},{"$f":"IF(C3=\"N=50\",IF(ISBLANK(K3),\"\",(IF(K3=0,4,IF(K3<4,8,IF(K3<6,10,IF(K3<8,12,IF(K3<14,14,IF(K3<22,16,IF(K3<62,18,IF(K3<72,16,IF(K3<80,14,IF(K3<84,12,IF(K3<88,10,IF(K3<92,8,IF(K3<94,6,IF(K3<97,4,IF(K3<99,2,0))))))))))))))))/100),IF(ISBLANK(K3),\"\",(IF(K3=0,8,IF(K3<8,16,IF(K3<16,20,IF(K3<64,24,IF(K3<76,20,IF(K3<84,16,IF(K3<88,12,IF(K3<93,8,IF(K3<97,4,IF(K3<99,2,0)))))))))))/100))","v":""},{"$f":"IF(C3=\"N=50\",IF(ISBLANK(L3),\"\",(IF(L3=0,4,IF(L3<4,8,IF(L3<6,10,IF(L3<8,12,IF(L3<14,14,IF(L3<22,16,IF(L3<62,18,IF(L3<72,16,IF(L3<80,14,IF(L3<84,12,IF(L3<88,10,IF(L3<92,8,IF(L3<94,6,IF(L3<97,4,IF(L3<99,2,0))))))))))))))))/100),IF(ISBLANK(L3),\"\",(IF(L3=0,8,IF(L3<8,16,IF(L3<16,20,IF(L3<64,24,IF(L3<76,20,IF(L3<84,16,IF(L3<88,12,IF(L3<93,8,IF(L3<97,4,IF(L3<99,2,0)))))))))))/100))","v":""},{"$f":"IF(C3=\"N=50\",IF(ISBLANK(M3),\"\",(IF(M3=0,4,IF(M3<4,8,IF(M3<6,10,IF(M3<8,12,IF(M3<14,14,IF(M3<22,16,IF(M3<62,18,IF(M3<72,16,IF(M3<80,14,IF(M3<84,12,IF(M3<88,10,IF(M3<92,8,IF(M3<94,6,IF(M3<97,4,IF(M3<99,2,0))))))))))))))))/100),IF(ISBLANK(M3),\"\",(IF(M3=0,8,IF(M3<8,16,IF(M3<16,20,IF(M3<64,24,IF(M3<76,20,IF(M3<84,16,IF(M3<88,12,IF(M3<93,8,IF(M3<97,4,IF(M3<99,2,0)))))))))))/100))","v":""},{"$f":"IF(C3=\"N=50\",IF(ISBLANK(N3),\"\",(IF(N3=0,4,IF(N3<4,8,IF(N3<6,10,IF(N3<8,12,IF(N3<14,14,IF(N3<22,16,IF(N3<62,18,IF(N3<72,16,IF(N3<80,14,IF(N3<84,12,IF(N3<88,10,IF(N3<92,8,IF(N3<94,6,IF(N3<97,4,IF(N3<99,2,0))))))))))))))))/100),IF(ISBLANK(N3),\"\",(IF(N3=0,8,IF(N3<8,16,IF(N3<16,20,IF(N3<64,24,IF(N3<76,20,IF(N3<84,16,IF(N3<88,12,IF(N3<93,8,IF(N3<97,4,IF(N3<99,2,0)))))))))))/100))","v":""}]
[null,null,null,null,null,null,null,null,null,null,null,null,null,null,null,"信賴區間(-)",null,{"$f":"IF(C3=\"N=50\",IF(ISBLANK(E3),\"\",(IF(E3=100,4,IF(E3>96,8,IF(E3>94,10,IF(E3>92,12,IF(E3>86,14,IF(E3>78,16,IF(E3>38,18,IF(E3>28,16,IF(E3>20,14,IF(E3>16,12,IF(E3>12,10,IF(E3>8,8,IF(E3>6,6,IF(E3>3,4,IF(E3>1,2,0))))))))))))))))/100),IF(ISBLANK(E3),\"\",(IF(E3=100,8,IF(E3>92,16,IF(E3>84,20,IF(E3>36,24,IF(E3>24,20,IF(E3>16,16,IF(E3>12,12,IF(E3>7,8,IF(E3>5,6,IF(E3>3,4,IF(E3>1,2,0))))))))))))/100))","v":""},{"$f":"IF(C3=\"N=50\",IF(ISBLANK(F3),\"\",(IF(F3=100,4,IF(F3>96,8,IF(F3>94,10,IF(F3>92,12,IF(F3>86,14,IF(F3>78,16,IF(F3>38,18,IF(F3>28,16,IF(F3>20,14,IF(F3>16,12,IF(F3>12,10,IF(F3>8,8,IF(F3>6,6,IF(F3>3,4,IF(F3>1,2,0))))))))))))))))/100),IF(ISBLANK(F3),\"\",(IF(F3=100,8,IF(F3>92,16,IF(F3>84,20,IF(F3>36,24,IF(F3>24,20,IF(F3>16,16,IF(F3>12,12,IF(F3>7,8,IF(F3>5,6,IF(F3>3,4,IF(F3>1,2,0))))))))))))/100))","v":""},{"$f":"IF(C3=\"N=50\",IF(ISBLANK(G3),\"\",(IF(G3=100,4,IF(G3>96,8,IF(G3>94,10,IF(G3>92,12,IF(G3>86,14,IF(G3>78,16,IF(G3>38,18,IF(G3>28,16,IF(G3>20,14,IF(G3>16,12,IF(G3>12,10,IF(G3>8,8,IF(G3>6,6,IF(G3>3,4,IF(G3>1,2,0))))))))))))))))/100),IF(ISBLANK(G3),\"\",(IF(G3=100,8,IF(G3>92,16,IF(G3>84,20,IF(G3>36,24,IF(G3>24,20,IF(G3>16,16,IF(G3>12,12,IF(G3>7,8,IF(G3>5,6,IF(G3>3,4,IF(G3>1,2,0))))))))))))/100))","v":""},{"$f":"IF(C3=\"N=50\",IF(ISBLANK(H3),\"\",(IF(H3=100,4,IF(H3>96,8,IF(H3>94,10,IF(H3>92,12,IF(H3>86,14,IF(H3>78,16,IF(H3>38,18,IF(H3>28,16,IF(H3>20,14,IF(H3>16,12,IF(H3>12,10,IF(H3>8,8,IF(H3>6,6,IF(H3>3,4,IF(H3>1,2,0))))))))))))))))/100),IF(ISBLANK(H3),\"\",(IF(H3=100,8,IF(H3>92,16,IF(H3>84,20,IF(H3>36,24,IF(H3>24,20,IF(H3>16,16,IF(H3>12,12,IF(H3>7,8,IF(H3>5,6,IF(H3>3,4,IF(H3>1,2,0))))))))))))/100))","v":""},{"$f":"IF(C3=\"N=50\",IF(ISBLANK(I3),\"\",(IF(I3=100,4,IF(I3>96,8,IF(I3>94,10,IF(I3>92,12,IF(I3>86,14,IF(I3>78,16,IF(I3>38,18,IF(I3>28,16,IF(I3>20,14,IF(I3>16,12,IF(I3>12,10,IF(I3>8,8,IF(I3>6,6,IF(I3>3,4,IF(I3>1,2,0))))))))))))))))/100),IF(ISBLANK(I3),\"\",(IF(I3=100,8,IF(I3>92,16,IF(I3>84,20,IF(I3>36,24,IF(I3>24,20,IF(I3>16,16,IF(I3>12,12,IF(I3>7,8,IF(I3>5,6,IF(I3>3,4,IF(I3>1,2,0))))))))))))/100))","v":""},{"$f":"IF(C3=\"N=50\",IF(ISBLANK(J3),\"\",(IF(J3=100,4,IF(J3>96,8,IF(J3>94,10,IF(J3>92,12,IF(J3>86,14,IF(J3>78,16,IF(J3>38,18,IF(J3>28,16,IF(J3>20,14,IF(J3>16,12,IF(J3>12,10,IF(J3>8,8,IF(J3>6,6,IF(J3>3,4,IF(J3>1,2,0))))))))))))))))/100),IF(ISBLANK(J3),\"\",(IF(J3=100,8,IF(J3>92,16,IF(J3>84,20,IF(J3>36,24,IF(J3>24,20,IF(J3>16,16,IF(J3>12,12,IF(J3>7,8,IF(J3>5,6,IF(J3>3,4,IF(J3>1,2,0))))))))))))/100))","v":""},{"$f":"IF(C3=\"N=50\",IF(ISBLANK(K3),\"\",(IF(K3=100,4,IF(K3>96,8,IF(K3>94,10,IF(K3>92,12,IF(K3>86,14,IF(K3>78,16,IF(K3>38,18,IF(K3>28,16,IF(K3>20,14,IF(K3>16,12,IF(K3>12,10,IF(K3>8,8,IF(K3>6,6,IF(K3>3,4,IF(K3>1,2,0))))))))))))))))/100),IF(ISBLANK(K3),\"\",(IF(K3=100,8,IF(K3>92,16,IF(K3>84,20,IF(K3>36,24,IF(K3>24,20,IF(K3>16,16,IF(K3>12,12,IF(K3>7,8,IF(K3>5,6,IF(K3>3,4,IF(K3>1,2,0))))))))))))/100))","v":""},{"$f":"IF(C3=\"N=50\",IF(ISBLANK(L3),\"\",(IF(L3=100,4,IF(L3>96,8,IF(L3>94,10,IF(L3>92,12,IF(L3>86,14,IF(L3>78,16,IF(L3>38,18,IF(L3>28,16,IF(L3>20,14,IF(L3>16,12,IF(L3>12,10,IF(L3>8,8,IF(L3>6,6,IF(L3>3,4,IF(L3>1,2,0))))))))))))))))/100),IF(ISBLANK(L3),\"\",(IF(L3=100,8,IF(L3>92,16,IF(L3>84,20,IF(L3>36,24,IF(L3>24,20,IF(L3>16,16,IF(L3>12,12,IF(L3>7,8,IF(L3>5,6,IF(L3>3,4,IF(L3>1,2,0))))))))))))/100))","v":""},{"$f":"IF(C3=\"N=50\",IF(ISBLANK(M3),\"\",(IF(M3=100,4,IF(M3>96,8,IF(M3>94,10,IF(M3>92,12,IF(M3>86,14,IF(M3>78,16,IF(M3>38,18,IF(M3>28,16,IF(M3>20,14,IF(M3>16,12,IF(M3>12,10,IF(M3>8,8,IF(M3>6,6,IF(M3>3,4,IF(M3>1,2,0))))))))))))))))/100),IF(ISBLANK(M3),\"\",(IF(M3=100,8,IF(M3>92,16,IF(M3>84,20,IF(M3>36,24,IF(M3>24,20,IF(M3>16,16,IF(M3>12,12,IF(M3>7,8,IF(M3>5,6,IF(M3>3,4,IF(M3>1,2,0))))))))))))/100))","v":""},{"$f":"IF(C3=\"N=50\",IF(ISBLANK(N3),\"\",(IF(N3=100,4,IF(N3>96,8,IF(N3>94,10,IF(N3>92,12,IF(N3>86,14,IF(N3>78,16,IF(N3>38,18,IF(N3>28,16,IF(N3>20,14,IF(N3>16,12,IF(N3>12,10,IF(N3>8,8,IF(N3>6,6,IF(N3>3,4,IF(N3>1,2,0))))))))))))))))/100),IF(ISBLANK(N3),\"\",(IF(N3=100,8,IF(N3>92,16,IF(N3>84,20,IF(N3>36,24,IF(N3>24,20,IF(N3>16,16,IF(N3>12,12,IF(N3>7,8,IF(N3>5,6,IF(N3>3,4,IF(N3>1,2,0))))))))))))/100))","v":""}]
[]
[null,null,null,null,null,null,null,null,null,null,null,null,null,null,null,"設定用，請勿改動："]
[null,null,null,null,null,null,null,null,null,null,null,null,null,null,null,"遊戲得分理想值",{"$f":"試玩遊戲得分樣本群!H6","v":28.588414845896615}]
[]
[]
[]
[]
[]
[]
[]
[]
[]
[]
[]
[]
[]
[]
[]
[]
[]
[]
[]
[]
["施測 SDS 期間遊戲計分說明：請參考 http://jedi.org/blog/archives/006322.html#proposal 說明。"]

{"sheet":"試玩遊戲得分樣本群","index":7,"n_rows":29,"n_cols":8,"rows_kept":29,"cut":false,"hidden":false,"merged":[]}
["案號","年齡","最高得分","次高得分","第三得分"]
[1,"成人",25,23,22,null,"(Adult)"]
[2,"成人",15,10,9,null,"Mean",{"$f":"AVERAGE(C2:E24)","v":20}]
[3,"成人",14,14,12,null,"SD",{"$f":"_xlfn.STDEV.P(C2:E24)","v":5.7256098972644107}]
[4,"成人",20,16,16]
[5,"成人",26,26,24,null,"Mean + 1.5 SD",{"$f":"H3+1.5*H4","v":28.588414845896615}]
[6,"成人",23,21,17]
[7,"成人",30,26,23]
[11,"成人",22,20,20]
[12,"成人",29,29,29]
[13,"成人",23,16,16]
[14,"成人",24,24,15]
[15,"成人",19,17,16]
[16,"成人",25,24,19]
["19","成人",21,16,10]
["20","成人",32,31,30]
["21","成人",16,8,8]
["22","成人",23,21,20]
["23","成人",18,18,14]
["24","成人",29,23,22]
["25","成人",20,19,16]
["26","成人",25,21,16]
["27","成人",16,14,12]
["28","成人",24,22,16]
[8,"兒童",16,12,11]
[9,"兒童",17,14,13]
[10,"兒童",14,14,12]
[17,"兒童",13,13,10]
[18,"兒童",14,13,11]